Workbook

Sheet Application
B2: Application for TEMPORARY RATING for EXISTING WHS RATED TEES (CR003) due to TEMPORARY Changes to the Course | L2: This Form should ONLY be used for an EXISTING SET OF TEES for which a valid WHS rating ALREADY EXISTS AND where such existing rating will not be appropriate for a limited period of time due to TEMPORARY changes to the course relating to course maintenance or course development. If this change affects MORE THAN ONE SET OF TEES as the Hole Length, Par (and even Stroke Indices) may be different a separate form must be submitted for each set of tees This form MUST NOT be used: for TEES for which no valid WHS rating currently exists OR for ALTERNATIVE TEES provided for other regular seasonal purposes (e.g. Winter play) for which a different type of rating is required OR where the overall change in length EXCEEDS 300 yards In such situations please consult your local County Rating Team or the County Secretary
B4: Club:
B5: Name of Course: (if different)
B6: Affiliated County:
B7: Contact Name:
B8: Contact Email address:
B9: Contact Tel No:
B10: Position held at Club:
B11: Tee Name:
B12: 9 Holes or 18 Holes:
B13: Rating Gender:
B14: Date Request Submitted to EG:
B15: Requested Start Date for Revised Rating:
... B18: Where the Temporary Changes affect the length of ANY HOLE please provide both the 'Current' and 'New' information for ALL HOLES plus responses to the other questions on holes where changes will occur.
B20: Hole No | C20: Hole Length | E20: Scorecard Par | G20: Stroke Index | I20: Is a Fixed Tee Marker in Place at new Tee Position ? (Y or N)
C21: Current | D21: New | E21: Current | F21: New | G21: Current | H21: New
B22: 1 | L22: TEMPORARY TEES: Where the changes involve the use of Temporary Tees, and where such tees will be used for qualifying purposes, the Measuring Point of each such tee must be indicated by a 'PERMANENT' marker. (see WHS Rules of Handicapping - Appendix G - Course Measurement)
B23: 2
B24: 3
B25: 4
B26: 5
B27: 6
B28: 7
B29: 8
B30: 9
B31: 10
B32: 11
B33: 12
B34: 13
... B39: 18
B40: Total | C40: =IF(SUM(C22:C39)=0,"",SUM(C22:C39)) | D40: =IF(SUM(D22:D39)=0,"",SUM(D22:D39)) | E40: =IF(SUM(E22:E39)=0,"",SUM(E22:E39)) | F40: =IF(SUM(F22:F39)=0,"",SUM(F22:F39))
B42: Please provide a brief description of the work being carried out - including how many temporary greens or tees will be used. | L42: To ensure the necessary changes to WHS can be applied before any relevant scores are received - all such applications must be RECEIVED by England Golf AT LEAST 7 DAYS BEFORE the Requested START DATE of the Temporary Rating.
B45: This application MUST be accompanied by a Course Measurement Certificate. Where the changes DO NOT not affect the length of any hole that should be the current Course Measurement Certificate. Where the length of one or more holes will temporarily be different from the length specified on the current certificate please consult your County Rating Team about what revised measurements are required. | L45: If the work is not completed to schedule and the planned End Date no longer applies, a new application must be submitted to EG. This should - where possible - also be submitted at least 7 days before the existing planned End Date. This new application should reflect any changes to the course since the original application (e.g. as a result of any work completed to date). -
B47: This form should be completed by the Club Secretary / Manager and - - together with an appropriate Measurement Certificate (see above) - submitted by email to England Golf : Course.Rating@englandgolf.org
B49: EJLS / NJC | H49: Version | I49: 2021 01 12
H50: Form | I50: CR003

Sheet EG USE ONLY
B1: Calculating Temporary Ratings for Tees with an Existing WHS Rating using Appendix G
B2: Course Name: | C2: =IF(Application!G5="",IF(Application!G4="","",Application!G4),Application!G5)
B3: Tee Name: | C3: =IF(Application!G11="","",Application!G11)
D5: 18 Holes | F5: 9 Holes
D6: Men | E6: Women | F6: Men | G6: Women
B7: Course Length (Yards) | C7: Current | D7: =IF(Application!$G$12=9,"",IF(Application!$G$13="WOMEN","",IF(Application!$C$40="","",Application!$C$40))) | E7: =IF(Application!$G$12=9,"",IF(Application!$G$13="MEN","",IF(Application!$C$40="","",Application!$C$40))) | F7: =IF(Application!$G$12=18,"",IF(Application!$G$13="WOMEN","",IF(Application!$C$40="","",Application!$C$40))) | G7: =IF(Application!$G$12=18,"",IF(Application!$G$13="MEN","",IF(Application!$C$40="","",Application!$C$40)))
C8: New | D8: =IF(Application!$G$12=9,"",IF(Application!$G$13="WOMEN","",IF(Application!$D$40="","",Application!$D$40))) | E8: =IF(Application!$G$12=9,"",IF(Application!$G$13="MEN","",IF(Application!$D$40="","",Application!$D$40))) | F8: =IF(Application!$G$12=18,"",IF(Application!$G$13="WOMEN","",IF(Application!$D$40="","",Application!$D$40))) | G8: =IF(Application!$G$12=18,"",IF(Application!$G$13="MEN","",IF(Application!$D$40="","",Application!$D$40)))
C9: Difference | D9: =IF(D7="","",IF(D8="","",D8-D7)) | E9: =IF(E7="","",IF(E8="","",E8-E7)) | F9: =IF(F7="","",IF(F8="","",F8-F7)) | G9: =IF(G7="","",IF(G8="","",G8-G7))
B11: Existing Ratings | C11: Course Rating
C12: Slope Rating
B14: Appendix G Adjustments | C14: Course Rating
C15: Slope Rating
B17: Temporary Ratings | C17: Course Rating | D17: =IF(D14="","",D11+D14) | E17: =IF(E14="","",E11+E14) | F17: =IF(F14="","",F11+F14) | G17: =IF(G14="","",G11+G14)
C18: Slope Rating | D18: =IF(D15="","",D12+D15) | E18: =IF(E15="","",E12+E15) | F18: =IF(F15="","",F12+F15) | G18: =IF(G15="","",G12+G15)
B20: Effective Start Date: | C20: =IF(Application!G15="","",Application!G15)
B21: Effective End date: | C21: =IF(Application!G16="","",Application!G16)
B23: Temporary Rating issued to Club by : | D23: (PRINT Name)
B24: Date issued to Club: | K24: Cells this colour contain protected formulae.
B25: Updated on WHS by: | D25: (PRINT Name)
B26: Date updated on WHS:
